BEGIN:VCALENDAR
VERSION:2.0
PRODID:-//The Spa at Norwich Inn - ECPv6.15.20//NONSGML v1.0//EN
CALSCALE:GREGORIAN
METHOD:PUBLISH
X-ORIGINAL-URL:https://thespaatnorwichinn.com
X-WR-CALDESC:Events for The Spa at Norwich Inn
REFRESH-INTERVAL;VALUE=DURATION:PT1H
X-Robots-Tag:noindex
X-PUBLISHED-TTL:PT1H
BEGIN:VTIMEZONE
TZID:UTC
BEGIN:STANDARD
TZOFFSETFROM:+0000
TZOFFSETTO:+0000
TZNAME:UTC
DTSTART:20250101T000000
END:STANDARD
END:VTIMEZONE
BEGIN:VTIMEZONE
TZID:America/New_York
BEGIN:DAYLIGHT
TZOFFSETFROM:-0500
TZOFFSETTO:-0400
TZNAME:EDT
DTSTART:20250309T070000
END:DAYLIGHT
BEGIN:STANDARD
TZOFFSETFROM:-0400
TZOFFSETTO:-0500
TZNAME:EST
DTSTART:20251102T060000
END:STANDARD
BEGIN:DAYLIGHT
TZOFFSETFROM:-0500
TZOFFSETTO:-0400
TZNAME:EDT
DTSTART:20260308T070000
END:DAYLIGHT
BEGIN:STANDARD
TZOFFSETFROM:-0400
TZOFFSETTO:-0500
TZNAME:EST
DTSTART:20261101T060000
END:STANDARD
BEGIN:DAYLIGHT
TZOFFSETFROM:-0500
TZOFFSETTO:-0400
TZNAME:EDT
DTSTART:20270314T070000
END:DAYLIGHT
BEGIN:STANDARD
TZOFFSETFROM:-0400
TZOFFSETTO:-0500
TZNAME:EST
DTSTART:20271107T060000
END:STANDARD
END:VTIMEZONE
BEGIN:VEVENT
DTSTART;TZID=UTC:20260304T183000
DTEND;TZID=UTC:20260304T203000
DTSTAMP:20260420T063208
CREATED:20240627T191806Z
LAST-MODIFIED:20240903T173725Z
UID:10000874-1772649000-1772656200@thespaatnorwichinn.com
SUMMARY:Trivia Night
DESCRIPTION:In Ascot’s Pub \nTrivia Night presented by Trivia Nerds test your knowledge of Movies\, History\, Super Heroes\, Netflix\, Gameshows\, Geography\, and more! This event is free for everyone to play and you can participate individually or as a team. Prizes awarded!
URL:https://thespaatnorwichinn.com/event/trivia-night/2026-03-04/
LOCATION:Ascot’s Pub
CATEGORIES:Entertainment,Weekly Events
ATTACH;FMTTYPE=image/webp:https://thespaatnorwichinn.com/wp-content/uploads/2024/06/SNI_TriviaNights_WebGuestActivitySchedule_1250x833_051222-768x512-1.webp
END:VEVENT
BEGIN:VEVENT
DTSTART;TZID=America/New_York:20260305T183000
DTEND;TZID=America/New_York:20260305T210000
DTSTAMP:20260420T063208
CREATED:20250703T165050Z
LAST-MODIFIED:20250703T180501Z
UID:10004871-1772735400-1772744400@thespaatnorwichinn.com
SUMMARY:Acoustic Nights
DESCRIPTION:Join us every Thursday to enjoy the incredible sounds of acoustic guitarist Tom Majesky from The Cartell’s. He performs weekly from 6:30 PM to 9:00 PM\, providing the perfect soundtrack for your evening.
URL:https://thespaatnorwichinn.com/event/acoustic-nights/2026-03-05/
LOCATION:Ascot’s Pub
CATEGORIES:All Experiences,Entertainment,Weekly Events
ATTACH;FMTTYPE=image/png:https://thespaatnorwichinn.com/wp-content/uploads/2025/07/NIS_2025_acoustic-nights_web-graphic_1600x1067-1.png
END:VEVENT
BEGIN:VEVENT
DTSTART;TZID=UTC:20260311T183000
DTEND;TZID=UTC:20260311T203000
DTSTAMP:20260420T063208
CREATED:20240627T191806Z
LAST-MODIFIED:20240903T173725Z
UID:10000875-1773253800-1773261000@thespaatnorwichinn.com
SUMMARY:Trivia Night
DESCRIPTION:In Ascot’s Pub \nTrivia Night presented by Trivia Nerds test your knowledge of Movies\, History\, Super Heroes\, Netflix\, Gameshows\, Geography\, and more! This event is free for everyone to play and you can participate individually or as a team. Prizes awarded!
URL:https://thespaatnorwichinn.com/event/trivia-night/2026-03-11/
LOCATION:Ascot’s Pub
CATEGORIES:Entertainment,Weekly Events
ATTACH;FMTTYPE=image/webp:https://thespaatnorwichinn.com/wp-content/uploads/2024/06/SNI_TriviaNights_WebGuestActivitySchedule_1250x833_051222-768x512-1.webp
END:VEVENT
BEGIN:VEVENT
DTSTART;TZID=America/New_York:20260312T180000
DTEND;TZID=America/New_York:20260312T210000
DTSTAMP:20260420T063208
CREATED:20260219T212237Z
LAST-MODIFIED:20260220T204311Z
UID:10005150-1773338400-1773349200@thespaatnorwichinn.com
SUMMARY:A Night of Spirits & Sustenance
DESCRIPTION:Featuring Bully Boy Distillers at The Spa at Norwich Inn \nElevate your evening with a 5-course pairing dinner in Kensington’s that celebrates the craftsmanship of Bully Boy Distillers. Set against the timeless backdrop of The Spa at Norwich Inn\, this event blends local ingredients with world-class spirits for an unforgettable experience.\n\nThe Menu\nLocal Oyster\n\nWith Horseradish Crème Fraiche & Caviar\nPairing: Amaro Rosso Spritz (A traditional red bitter blend featuring Mexican Damiana and Ethiopian Bessobella)\n\nCharcuterie Bruschetta\n\nRoasted Garlic\, Ricotta Salada\, Prosciutto\, Calabrian Chili Jam\nPairing: American Straight Whiskey (Served Neat; notes of vanilla and caramel from new American Oak)\n\nTorched Salmon Belly\n\nCrispy Sushi Rice\, Grapefruit Crema\, Petite Greens\nPairing: Winter Hemingway Daiquiri (Featuring Boston Rum aged in whiskey barrels)\n\nCoffee Crusted Rib-Eye\n\nBraised Mustard Greens\, Pave Potato\, Bully Boy Spiked Brown Butter Béarnaise\nPairing: Barrel Aged Old Fashioned (Aged for 18 months right here in our wine cellar)\n\nDark Chocolate Torte\n\nWhiskey Crème Anglaise\, Hazelnut Crumble\nPairing: Whiskey Espresso-tini (A robust blend of American Straight Whiskey & Amaro Rabarbaro)\n\n\nReservation Information\nPrice: $85 Per Person (Pricing plus applicable gratuity\, service charge\, and CT sales tax.)\nReservations are required by Monday\, March 9\, 2026\, at 12:00pm.\n\nThe Fine Print: Pre-payment is required. Reservations are non-refundable after March 9th at 12:00pm. This includes late arrivals and no-shows.\n  \nSECURE YOUR TABLE
URL:https://thespaatnorwichinn.com/event/a-night-of-spirits-sustenance/
CATEGORIES:All Experiences,Entertainment,Special Events
ATTACH;FMTTYPE=image/png:https://thespaatnorwichinn.com/wp-content/uploads/2026/02/NIS_bully-boy-spirits_website-graphic_1600x1067.png
END:VEVENT
BEGIN:VEVENT
DTSTART;TZID=America/New_York:20260312T183000
DTEND;TZID=America/New_York:20260312T210000
DTSTAMP:20260420T063208
CREATED:20250703T165050Z
LAST-MODIFIED:20250703T180501Z
UID:10004872-1773340200-1773349200@thespaatnorwichinn.com
SUMMARY:Acoustic Nights
DESCRIPTION:Join us every Thursday to enjoy the incredible sounds of acoustic guitarist Tom Majesky from The Cartell’s. He performs weekly from 6:30 PM to 9:00 PM\, providing the perfect soundtrack for your evening.
URL:https://thespaatnorwichinn.com/event/acoustic-nights/2026-03-12/
LOCATION:Ascot’s Pub
CATEGORIES:All Experiences,Entertainment,Weekly Events
ATTACH;FMTTYPE=image/png:https://thespaatnorwichinn.com/wp-content/uploads/2025/07/NIS_2025_acoustic-nights_web-graphic_1600x1067-1.png
END:VEVENT
BEGIN:VEVENT
DTSTART;TZID=UTC:20260318T183000
DTEND;TZID=UTC:20260318T203000
DTSTAMP:20260420T063208
CREATED:20240627T191806Z
LAST-MODIFIED:20240903T173725Z
UID:10000876-1773858600-1773865800@thespaatnorwichinn.com
SUMMARY:Trivia Night
DESCRIPTION:In Ascot’s Pub \nTrivia Night presented by Trivia Nerds test your knowledge of Movies\, History\, Super Heroes\, Netflix\, Gameshows\, Geography\, and more! This event is free for everyone to play and you can participate individually or as a team. Prizes awarded!
URL:https://thespaatnorwichinn.com/event/trivia-night/2026-03-18/
LOCATION:Ascot’s Pub
CATEGORIES:Entertainment,Weekly Events
ATTACH;FMTTYPE=image/webp:https://thespaatnorwichinn.com/wp-content/uploads/2024/06/SNI_TriviaNights_WebGuestActivitySchedule_1250x833_051222-768x512-1.webp
END:VEVENT
BEGIN:VEVENT
DTSTART;TZID=America/New_York:20260319T183000
DTEND;TZID=America/New_York:20260319T210000
DTSTAMP:20260420T063208
CREATED:20250703T165050Z
LAST-MODIFIED:20250703T180501Z
UID:10004873-1773945000-1773954000@thespaatnorwichinn.com
SUMMARY:Acoustic Nights
DESCRIPTION:Join us every Thursday to enjoy the incredible sounds of acoustic guitarist Tom Majesky from The Cartell’s. He performs weekly from 6:30 PM to 9:00 PM\, providing the perfect soundtrack for your evening.
URL:https://thespaatnorwichinn.com/event/acoustic-nights/2026-03-19/
LOCATION:Ascot’s Pub
CATEGORIES:All Experiences,Entertainment,Weekly Events
ATTACH;FMTTYPE=image/png:https://thespaatnorwichinn.com/wp-content/uploads/2025/07/NIS_2025_acoustic-nights_web-graphic_1600x1067-1.png
END:VEVENT
BEGIN:VEVENT
DTSTART;TZID=UTC:20260325T183000
DTEND;TZID=UTC:20260325T203000
DTSTAMP:20260420T063208
CREATED:20240627T191806Z
LAST-MODIFIED:20240903T173725Z
UID:10000877-1774463400-1774470600@thespaatnorwichinn.com
SUMMARY:Trivia Night
DESCRIPTION:In Ascot’s Pub \nTrivia Night presented by Trivia Nerds test your knowledge of Movies\, History\, Super Heroes\, Netflix\, Gameshows\, Geography\, and more! This event is free for everyone to play and you can participate individually or as a team. Prizes awarded!
URL:https://thespaatnorwichinn.com/event/trivia-night/2026-03-25/
LOCATION:Ascot’s Pub
CATEGORIES:Entertainment,Weekly Events
ATTACH;FMTTYPE=image/webp:https://thespaatnorwichinn.com/wp-content/uploads/2024/06/SNI_TriviaNights_WebGuestActivitySchedule_1250x833_051222-768x512-1.webp
END:VEVENT
BEGIN:VEVENT
DTSTART;TZID=America/New_York:20260326T183000
DTEND;TZID=America/New_York:20260326T210000
DTSTAMP:20260420T063208
CREATED:20250703T165050Z
LAST-MODIFIED:20250703T180501Z
UID:10004874-1774549800-1774558800@thespaatnorwichinn.com
SUMMARY:Acoustic Nights
DESCRIPTION:Join us every Thursday to enjoy the incredible sounds of acoustic guitarist Tom Majesky from The Cartell’s. He performs weekly from 6:30 PM to 9:00 PM\, providing the perfect soundtrack for your evening.
URL:https://thespaatnorwichinn.com/event/acoustic-nights/2026-03-26/
LOCATION:Ascot’s Pub
CATEGORIES:All Experiences,Entertainment,Weekly Events
ATTACH;FMTTYPE=image/png:https://thespaatnorwichinn.com/wp-content/uploads/2025/07/NIS_2025_acoustic-nights_web-graphic_1600x1067-1.png
END:VEVENT
END:VCALENDAR