BEGIN:VCALENDAR
VERSION:2.0
PRODID:-//The Spa at Norwich Inn - ECPv6.15.20//NONSGML v1.0//EN
CALSCALE:GREGORIAN
METHOD:PUBLISH
X-ORIGINAL-URL:https://thespaatnorwichinn.com
X-WR-CALDESC:Events for The Spa at Norwich Inn
REFRESH-INTERVAL;VALUE=DURATION:PT1H
X-Robots-Tag:noindex
X-PUBLISHED-TTL:PT1H
BEGIN:VTIMEZONE
TZID:America/New_York
BEGIN:DAYLIGHT
TZOFFSETFROM:-0500
TZOFFSETTO:-0400
TZNAME:EDT
DTSTART:20250309T070000
END:DAYLIGHT
BEGIN:STANDARD
TZOFFSETFROM:-0400
TZOFFSETTO:-0500
TZNAME:EST
DTSTART:20251102T060000
END:STANDARD
BEGIN:DAYLIGHT
TZOFFSETFROM:-0500
TZOFFSETTO:-0400
TZNAME:EDT
DTSTART:20260308T070000
END:DAYLIGHT
BEGIN:STANDARD
TZOFFSETFROM:-0400
TZOFFSETTO:-0500
TZNAME:EST
DTSTART:20261101T060000
END:STANDARD
BEGIN:DAYLIGHT
TZOFFSETFROM:-0500
TZOFFSETTO:-0400
TZNAME:EDT
DTSTART:20270314T070000
END:DAYLIGHT
BEGIN:STANDARD
TZOFFSETFROM:-0400
TZOFFSETTO:-0500
TZNAME:EST
DTSTART:20271107T060000
END:STANDARD
END:VTIMEZONE
BEGIN:VEVENT
DTSTART;TZID=America/New_York:20260420T160000
DTEND;TZID=America/New_York:20260420T180000
DTSTAMP:20260420T082049
CREATED:20241211T201949Z
LAST-MODIFIED:20241211T202453Z
UID:10003024-1776700800-1776708000@thespaatnorwichinn.com
SUMMARY:Happy Hour
DESCRIPTION:Sunday–Thursday\nAscot’s Pub \n4 PM–6 PM\nSavor the flavors of Happy Hour at Ascot’s Pub! Unwind in it’s cozy\, intimate atmosphere\, while enjoying discounted drink and wine specials every Sunday through Thursday from 4-6 PM. Make it your place to toast the perfect day or catch up with friends & family.
URL:https://thespaatnorwichinn.com/event/happy-hour-at-ascots/2026-04-20/
LOCATION:Ascot’s Pub
CATEGORIES:Culinary,Weekly Events
ATTACH;FMTTYPE=image/jpeg:https://thespaatnorwichinn.com/wp-content/uploads/2024/12/SNI_GuestActivitySchedule_HappyHour_768x512_121124.jpg
END:VEVENT
BEGIN:VEVENT
DTSTART;TZID=America/New_York:20260420T173000
DTEND;TZID=America/New_York:20260420T200000
DTSTAMP:20260420T082049
CREATED:20241211T202415Z
LAST-MODIFIED:20241217T133611Z
UID:10004308-1776706200-1776715200@thespaatnorwichinn.com
SUMMARY:Burger & Bourbon Night at Ascot's Pub
DESCRIPTION:Mondays\nAscot’s Pub\n5:30–8 PM\nStart your week with a delicious twist at Ascot’s! Indulge in a Wagyu Burger special perfectly paired with a handcrafted bourbon cocktail. With menus that change weekly\, there’s always something new to savor. Gather with friends and enjoy a flavorful evening in the cozy charm of Ascot’s Pub.
URL:https://thespaatnorwichinn.com/event/burger-bourbon-night-at-ascots-pub/2026-04-20/
LOCATION:Ascot’s Pub
CATEGORIES:Culinary,Weekly Events
ATTACH;FMTTYPE=image/jpeg:https://thespaatnorwichinn.com/wp-content/uploads/2024/12/SNI_GuestActivitySchedule_BurgerBourbon_768x512_121124.jpg
END:VEVENT
END:VCALENDAR